BEGIN:VCALENDAR
VERSION:2.0
X-WR-TIMEZONE:Europe/Paris
PRODID:-//Audencia//NONSGML v1.0//EN
CALSCALE:GREGORIAN
BEGIN:VEVENT
SUMMARY:IMM networking session at Audencia Atlantic Campus, Nantes
DTSTART:20180222T163000
DTEND:20180222T173000
UID:199
DTSTAMP:20260425T205715
LOCATION:Room 237 Audencia Atlantic Campus 8 route de la Joneliere, Nantes
DESCRIPTION:Audencia is delighted to welcome alumna Iuliana Megelea (IMM 2010) back to Audencia for International Day on 22nd February. On this occasion, Iuliana will dedicate a full session to current IMM students. This is a great chance for you to learn and be inspired by what Iuliana has achieved since graduating from Audencia.\n\nJoin her on:\n \n\n	Thursday 22nd February 2018\n	16.30 - 17.30\n	Room 237\n\n \n\nThis session is open to current IMM students only\nPlease register on TOMORROW!
BEGIN:VALARM
ACTION:DISPLAY
TRIGGER:-PT60M
DESCRIPTION:IMM networking session at Audencia Atlantic Campus, Nantes
END:VALARM
END:VEVENT
END:VCALENDAR