BEGIN:VCALENDAR
VERSION:2.0
X-WR-TIMEZONE:Europe/Paris
PRODID:-//Audencia//NONSGML v1.0//EN
CALSCALE:GREGORIAN
BEGIN:VEVENT
SUMMARY:AAGEF afterwork in New York, USA
DTSTART:20180319T180000
DTEND:20180319T210000
UID:198
DTSTAMP:20260425T210005
LOCATION:The Liberty 29 West 35th Street New York, NY 10001
DESCRIPTION:AAGEF Spring Afterwork in NYC\n\nDear Friends of French Grandes Ecoles,\n\nYou are invited to the AAGEF Afterwork - Spring 2018. The event will take place at The Liberty bar (Midtown) in the Club Room (downstairs section) starting at 6pm.\n\n \n\nPlease REGISTER HERE \n\n\n\nThere is an early bird price, the registration fee covers: entry to the place as well as your first drink (wine, beer, or well).\n\nWe hope you will be able to join!\n\nThe AAGEF Event Team\n\n\n \n\n*AAGEF is the Association des Amis des Grandes Ecoles Françaises, of which Audencia is a member!*
BEGIN:VALARM
ACTION:DISPLAY
TRIGGER:-PT60M
DESCRIPTION:AAGEF afterwork in New York, USA
END:VALARM
END:VEVENT
END:VCALENDAR