BEGIN:VCALENDAR
VERSION:2.0
X-WR-TIMEZONE:Europe/Paris
PRODID:-//Audencia//NONSGML v1.0//EN
CALSCALE:GREGORIAN
BEGIN:VEVENT
SUMMARY:P&G for Her
DTSTART:20180322T090000
DTEND:20180323T180000
UID:197
DTSTAMP:20260425T205902
LOCATION:Siège de P&G, Paris
DESCRIPTION:Vous avez envie de découvrir la fonction Stratégie Commerciale chez P&G et de rencontrer des femmes qui ont fait la réputation de leurs grandes marques? Inscrivez-vous en ligne à la 2ème édition de leur évènement P&G For Her pour décrocher un stage ou un CDI ! \n \nDe quoi s’agit-il ? \nP&G FOR HER prend position en faveur de la parité. C’est un évènement qui a pour but de recruter 30 femmes talentueuses pour rejoindre leurs équipes.\nCandidatez via le lien et compléter les deux tests en ligne avant le 1er mars 2018. \nSi vous réussissez les tests, vous serez invitées le 22 et 23 mars 2018 au siège à Paris.\n\nPendant ces deux journées vous découvrirez la fonction Stratégie Commerciale, ferez des rencontres mémorables avec des leaders et managers d’une multinationale réputée.\n \nLe plus : frais de déplacement et logement à l’hôtel pris en charge, participation à des animations, dîner au restaurant, sans oublier de nombreuses surprises et cadeaux…\n\nPlus d’informations 
BEGIN:VALARM
ACTION:DISPLAY
TRIGGER:-PT60M
DESCRIPTION:P&G for Her
END:VALARM
END:VEVENT
END:VCALENDAR