BEGIN:VCALENDAR
VERSION:2.0
X-WR-TIMEZONE:Europe/Paris
PRODID:-//Audencia//NONSGML v1.0//EN
CALSCALE:GREGORIAN
BEGIN:VEVENT
SUMMARY:MBApéro pour les Executive MBA 2011, Nantes
DTSTART:20180215T190000
DTEND:20180215T210000
UID:196
DTSTAMP:20260425T205822
LOCATION:Graslin de Folie 1 Rue Racine 44000 Nantes
DESCRIPTION:Je vous propose de se retrouver au Graslin de Folie à partir de 19h, jeudi 15 février\n\n​Tanguy
BEGIN:VALARM
ACTION:DISPLAY
TRIGGER:-PT60M
DESCRIPTION:MBApéro pour les Executive MBA 2011, Nantes
END:VALARM
END:VEVENT
END:VCALENDAR