BEGIN:VCALENDAR
VERSION:2.0
X-WR-TIMEZONE:Europe/Paris
PRODID:-//Audencia//NONSGML v1.0//EN
CALSCALE:GREGORIAN
BEGIN:VEVENT
SUMMARY:Alumni dinner, Casablanca, Morocco
DTSTART:20180223T200000
DTEND:20180223T220000
UID:195
DTSTAMP:20260425T210145
LOCATION:India Palace Rue Ahmed El Mokri (ex. Rue d'Auteuil), Casablanca 20250
DESCRIPTION:Nicolas Arnaud, Director of the Audencia Grande Ecole programme, is coming to Casablanca. \n\nCome and join him and fellow alumni for dinner at the India Palace from 8pm on Friday 23rd February.
BEGIN:VALARM
ACTION:DISPLAY
TRIGGER:-PT60M
DESCRIPTION:Alumni dinner, Casablanca, Morocco
END:VALARM
END:VEVENT
END:VCALENDAR