BEGIN:VCALENDAR
VERSION:2.0
X-WR-TIMEZONE:Europe/Paris
PRODID:-//Audencia//NONSGML v1.0//EN
CALSCALE:GREGORIAN
BEGIN:VEVENT
SUMMARY:Table ronde - Ambassadeurs salariés : Ils likent leur entreprise !
DTSTART:20180222T180000
DTEND:20180222T203000
UID:194
DTSTAMP:20260425T210054
LOCATION:Mediacampus  41 boulevard de la Prairie au Duc 44200 Nantes
DESCRIPTION:Table ronde Chaire Suez - Audencia SciencesCom\n \n\nDans le cadre de la chaire Suez – Audencia SciencesCom et en partenariat avec l'APCom, l'Association Française de Communication Interne et Alphacoms, Audencia SciencesCom vous invite à assister à la table ronde : Ambassadeurs salariés : Ils likent leur entreprise !\n \nA l’heure du numérique, le salarié pourrait-il devenir le premier communicant de son entreprise ? IBM, Pepsi, La Poste et bien d’autres y croient en mobilisant leurs salariés devenus ambassadeurs. Mais ces stratégies réinterrogent les métiers de la communication et des ressources humaines : l’utilisation des réseaux sociaux, la frontière entre vie professionnelle et vie privée, la légitimité de la prise de parole du salarié...\n\nSur la base de deux études produites par des étudiants pour la chaire Suez-Audencia SciencesCom et l’agence Alphacoms, cette soirée vous propose d’échanger sur cette transformation à l’œuvre dans nos organisations.\n\nIntervenants : \n\n	Anne SAMEK - Directrice de la Communication - SUEZ Région Grand Ouest,\n	Ségolène PUJOS - Directrice Pôle Stratégies - ALPHACOMS - pilote du réseau AFCI,\n	Laurence CAMESCASSE - Directrice de la communication - LA POSTE Pays de Loire - Branche Services-Courrier-Colis,\n	Lynda JAMIN - Factrice Qualité - LA POSTE\n\n \n\n\n	\n		\n			\n			>> INSCRIPTION PAR ICI\n			 \n		\n	\n\n\n\n\n 
BEGIN:VALARM
ACTION:DISPLAY
TRIGGER:-PT60M
DESCRIPTION:Table ronde - Ambassadeurs salariés : Ils likent leur entreprise !
END:VALARM
END:VEVENT
END:VCALENDAR