BEGIN:VCALENDAR
VERSION:2.0
X-WR-TIMEZONE:Europe/Paris
PRODID:-//Audencia//NONSGML v1.0//EN
CALSCALE:GREGORIAN
BEGIN:VEVENT
SUMMARY:Capsule Carrière 08 mars 2018 : Explorez vos talents au service de vos challenges !
DTSTART:20180308T190000
DTEND:20180308T223000
UID:193
DTSTAMP:20260425T210122
LOCATION:95 rue Falguière 75015 PARIS
DESCRIPTION:Audencia Careers et Audencia Alumni ont le plaisir de vous convier à la première Capsule Carrière 2018.\nCelle-ci sera animée par Agnès MARCHAND, Responsable Audencia Careers. \n\nAvec Claire LUSTIG-ROCHET, spécialiste de l’accompagnement des hommes et des organisations, découvrez les grands principes de la Psychologie Positive et d’une Démarche appréciative. \n\nObjectif ? Prendre conscience que c’est dans vos propres talents que vous puisez des ressources performantes pour répondre à vos défis du moment. \n\nCette soirée alternera conférence interactive et atelier participatif pour vous permettre d’appliquer les principes de psychologie positive sur un cas concret de votre vie personnelle ou professionnelle. Vous repartirez ainsi avec une meilleure connaissance de vos talents et des idées pour relever l’un de vos défis actuel. \n\n\n\nLa conférencière :\nAprès une première étape professionnelle de consultante dans le domaine informatique des progiciels de gestion, Claire Lustig-Rochet s’est spécialisée depuis 25 ans dans l’accompagnement des équipes et des organisations à travers des projets de changement et de développement du leadership.\nSpécialisée dans les approches basées sur les forces, elle forme depuis 6 ans à la Démarche Appréciative et mène des projets basés sur cette philosophie avec des clients.\nElle a créé le site francophone le plus complet sur la Démarche Appréciative  : www.au-coeur-de-l-ai.com
BEGIN:VALARM
ACTION:DISPLAY
TRIGGER:-PT60M
DESCRIPTION:Capsule Carrière 08 mars 2018 : Explorez vos talents au service de vos challenges !
END:VALARM
END:VEVENT
END:VCALENDAR