BEGIN:VCALENDAR
VERSION:2.0
X-WR-TIMEZONE:Europe/Paris
PRODID:-//Audencia//NONSGML v1.0//EN
CALSCALE:GREGORIAN
BEGIN:VEVENT
SUMMARY:CONFÉRENCE - Digitalisation omniprésente : les clés pour piloter la direction Communication et Marketing
DTSTART:20180315T081500
DTEND:20180315T103000
UID:192
DTSTAMP:20260425T205732
LOCATION:Audencia - 95 rue Falguière - 75015 PARIS
DESCRIPTION:Les approches du marketing ont drastiquement changé, les entreprises deviennent leur propre média et les formes traditionnelles de promotion d’une marque ou de communication autour d’un produit laissent place à de nouveaux canaux qui sont liés au digital. Il devient vital pour les entreprises de remettre en cause leurs pratiques « classiques » liées aux marketing et à la communication.\n\nCette conférence portera sur les clés pour piloter une direction communication et marketing à l’heure d’une digitalisation ominiprésente et obligatoire.\n \n\nINSCRIPTION 
BEGIN:VALARM
ACTION:DISPLAY
TRIGGER:-PT60M
DESCRIPTION:CONFÉRENCE - Digitalisation omniprésente : les clés pour piloter la direction Communication et Marketing
END:VALARM
END:VEVENT
END:VCALENDAR