BEGIN:VCALENDAR
VERSION:2.0
X-WR-TIMEZONE:Europe/Paris
PRODID:-//Audencia//NONSGML v1.0//EN
CALSCALE:GREGORIAN
BEGIN:VEVENT
SUMMARY:Paroles de diplômés : 2ème session - 12 Février 2018
DTSTART:20180212T090000
DTEND:20180212T180000
UID:191
DTSTAMP:20260425T205737
LOCATION:Audencia, 8 route de la Jonelière, Nantes
DESCRIPTION:\nLe 12 février, des diplômés de différents programmes d’Audencia (GE, MCI, MASC, MBA, …) reviennent à l’école pour témoigner de leurs parcours, de leurs réussites et partager leurs expériences auprès des étudiants. \n\nCinq thématiques seront abordées :\n- Conseil \n- RH Management \n- Marketing & Commercial \n- Achats & Supply chain \n- Banque \n\n\n\n \nAu programme de cette journée de rencontre étudiants-diplômés :  \n\n\n	Un speed meeting, en matinée, permettra aux étudiants répartis en petits groupes, de rencontrer les diplômés et d’échanger sur leur parcours et leurs métiers. Cette matinée est dédiée aux étudiants de majeures du programme Grande Ecole et des Mastères Spécialisés.\n	\n	L'après-midi est dédiée aux étudiants de 1ère année du programme Grande Ecole. Ils bénéficieront de moments d’échange privilégiés avec des diplômés mettant en avant leurs retours d’expérience. \n	\n	\n	La journée se terminera par un cocktail réseau. Ce moment convivial permettra de prolonger les échanges autour d’un verre. \n	\n\n\nUne expérience riche d’enseignements pour les étudiants, avides de poser des questions (sur la recherche d’emploi, l’intégration, le quotidien professionnel de leurs aînés), mais aussi de découvrir des métiers et de rencontrer des diplômés.\n \n\nInscriptions uniquement sur Tomorrow\n\n\nUn immense merci aux alumni qui se mobilisent et qui viennent témoigner auprès des étudiants d'Audencia !\n\n\n	\n		\n			\n			Mickaël LE GUILLOU (GE 06)\n			Emilie GARANDEAU (MCI 2014)\n			Adrien DEYHIM (GE 14)\n			Sandie VIRLOUVET (GE 03)   \n			Julie RUSAFA (GE 13)\n			Julien BAVENCOFFE (GE 11)\n			Alice HAMANN (GE 01)\n			Tristan DE LUSSY (GE 09)\n			Guénolé QUEAU (GE 10)\n			Maria DAHDAH (GE 14)\n			\n			\n			Damien GAROT (GE 10)\n			Julien LE BESCOND (GE 06)\n			Pauline RAILLARD (GE 10)\n			François GUILLEVIC (GE 09)\n			Mathilde JOUSSOT-DUBIEN (GE 13)   \n			Julien FORTIN (GE 13)\n			Jérôme PASQUET (MBA 06)\n			Sarah LE DU (GE 14)\n			Isabelle CHAROTTE (MASC 14)\n			Clotilde BOUCHET (MASC 08)\n			\n		\n	\n\n 
BEGIN:VALARM
ACTION:DISPLAY
TRIGGER:-PT60M
DESCRIPTION:Paroles de diplômés : 2ème session - 12 Février 2018
END:VALARM
END:VEVENT
END:VCALENDAR