BEGIN:VCALENDAR
VERSION:2.0
X-WR-TIMEZONE:Europe/Paris
PRODID:-//Audencia//NONSGML v1.0//EN
CALSCALE:GREGORIAN
BEGIN:VEVENT
SUMMARY:Conférence : les clés de la psychologie positive
DTSTART:20170309T190000
DTEND:20170309T203000
UID:19
DTSTAMP:20260425T205726
LOCATION:4 rue bisson 44100 NANTES
DESCRIPTION:\n
BEGIN:VALARM
ACTION:DISPLAY
TRIGGER:-PT60M
DESCRIPTION:Conférence : les clés de la psychologie positive
END:VALARM
END:VEVENT
END:VCALENDAR