BEGIN:VCALENDAR
VERSION:2.0
X-WR-TIMEZONE:Europe/Paris
PRODID:-//Audencia//NONSGML v1.0//EN
CALSCALE:GREGORIAN
BEGIN:VEVENT
SUMMARY:Enquête 2018 : votre parcours a de la valeur pour Audencia Business School / Survey 2018 : your career path is invaluable to Audencia Business School!
DTSTART:20180331T180000
DTEND:20180331T230000
UID:189
DTSTAMP:20260425T205856
LOCATION:ONLINE
DESCRIPTION:Cher(e) diplômé(e),\n\nChaque année l’enquête de la Conférence des Grandes Écoles nous permet d’en savoir plus sur votre parcours, votre insertion professionnelle et votre situation actuelle.\nNous attirons votre attention sur l’importance de cette enquête dont les réponses permettent de valoriser l’École à sa juste place lors des classements.\nNous avons donc besoin que vous nous accordiez quelques minutes pour remplir ce questionnaire. Chaque réponse compte !\n\nPourquoi prendre quelques minutes pour répondre à cette enquête ? \n\n	Pour impacter positivement les classements de votre École (Financial Times, Challenges..),\n	Pour contribuer à valoriser votre diplôme,\n	Pour mettre en avant votre parcours au sein de votre Réseau Audencia Alumni,\n	Pour mieux vous connaître.\n\nL’an dernier, vos camarades ont dépassé pour la première fois le taux de réponse des écoles concurrentes… Cette année, nous pouvons faire encore mieux et c’est à vous de faire la différence en cliquant sur le lien suivant : Enquete 2018\nMerci pour votre participation !\n \nDear Alumni,\n\nThe annual survey conducted by the Conférence des Grandes Ecoles enables us to learn more about your career path, your professional integration and your current status.\nWe would like to draw your attention to the importance of this survey as the answers will help us promote the School to its due position in the rankings. ​\nWe therefore request just few minutes of your time to fill in this questionnaire. ​Every response counts! \n\nWhy take a few minutes to reply to this survey? \n\n\n	To positively impact the rankings of your School (Financial Times, Challenges etc.),\n	To help promote your diploma,\n	To highlight your career path within your Audencia Alumni Network,\n	To help us learn more about you. ​\n\nLast year the survey response from your fellow students exceeded that of the competing schools for the first time. ​This year, we can do even better. ​You can make a difference by clicking here Survey 2018.\nThank you for participating in this survey!
BEGIN:VALARM
ACTION:DISPLAY
TRIGGER:-PT60M
DESCRIPTION:Enquête 2018 : votre parcours a de la valeur pour Audencia Business School / Survey 2018 : your career path is invaluable to Audencia Business School!
END:VALARM
END:VEVENT
END:VCALENDAR