BEGIN:VCALENDAR
VERSION:2.0
X-WR-TIMEZONE:Europe/Paris
PRODID:-//Audencia//NONSGML v1.0//EN
CALSCALE:GREGORIAN
BEGIN:VEVENT
SUMMARY:Sport-dating MOS #2
DTSTART:20180213T193000
DTEND:20180213T213000
UID:186
DTSTAMP:20260425T205904
LOCATION:Campus Audencia 95 Rue Falguière 75015 Paris
DESCRIPTION:Chers diplômés ou futurs diplômés,\n\nLe second Sport Dating du Mastere MOS se tiendra le mardi 13 février 2018 entre 19h30 et 21h00.\n\n3 anciens élèves du MOS viendront partager leur expérience professionnelle sur le campus parisien. Les sessions d'échange autour de chaque Alumni se dérouleront en petits groupes et dureront de 15 à 20 minutes. La soirée se conclura ensuite par un cocktail.\n\nCe Sport Dating sera l'occasion pour tous de se retrouver entre Alumni ainsi qu'avec les élèves actuels de la promotion 2018.\n\nIntervenants : Sylvain TESTEMALE (Promo 1999), Yann Duclos (Promo 1998), Pierre-Julien THIEBAUT (Promotion 2010).\n\nAu plaisir de vous retrouver nombreux le 16/01/2018,\n\nLes organisateurs
BEGIN:VALARM
ACTION:DISPLAY
TRIGGER:-PT60M
DESCRIPTION:Sport-dating MOS #2
END:VALARM
END:VEVENT
END:VCALENDAR