BEGIN:VCALENDAR
VERSION:2.0
X-WR-TIMEZONE:Europe/Paris
PRODID:-//Audencia//NONSGML v1.0//EN
CALSCALE:GREGORIAN
BEGIN:VEVENT
SUMMARY:Afterwork drinks in Auckland, New Zealand
DTSTART:20180220T180000
DTEND:20180220T193000
UID:185
DTSTAMP:20260425T205910
LOCATION:Jack Tar, 34 – 47 Jellicoe Street, North Wharf Auckland
DESCRIPTION:This is just about as far from Nantes as you get!\n\nAudencia professor Anna Gerke will be in Auckland for her research projects and would be delighted to reach out to any students, alumni AND friends who are there too.\n\nCome and join Anna for refreshments and an update on news from Audencia!\n\n \nfrom 18.00 to 19.30\nat the Jack Tar pub, 34-47 Jellicoe Street, North Wharf, Auckland \non Tuesday 20th February\n\n 
BEGIN:VALARM
ACTION:DISPLAY
TRIGGER:-PT60M
DESCRIPTION:Afterwork drinks in Auckland, New Zealand
END:VALARM
END:VEVENT
END:VCALENDAR