BEGIN:VCALENDAR
VERSION:2.0
X-WR-TIMEZONE:Europe/Paris
PRODID:-//Audencia//NONSGML v1.0//EN
CALSCALE:GREGORIAN
BEGIN:VEVENT
SUMMARY:L'Alliance s'associe à l'événement « Le Monde » O21 Nantes
DTSTART:20180216T090000
DTEND:20180217T180000
UID:184
DTSTAMP:20260425T210051
LOCATION:Cité des congrès, Nantes
DESCRIPTION:\nS’orienter au XXIe siècle, imaginer les métiers de demain : l'Alliance partenaire de l'événement à Nantes les 16-17 février 2018.\n\nLe Monde a lancé en 2016 « O21 – l’Orientation au 21e siècle » série de conférences à travers la France pour explorer et construire avec et pour les étudiants, le futur des formations et options de cursus.\n\nCette année, pour sa deuxième édition, Le Monde a choisi de s'installer à Nantes les 16 et 17 février à la Cité des Congrès.\n\nPartant du constat que les métiers de demain n’existent pas encore et se trouvent notamment à la convergence de plusieurs disciplines et compétences, de nombreux témoignages viennent illustrer cette dynamique.\n \n\nL'Alliance, acteur majeur de l'enseignement supérieur du grand ouest, étant fondée sur le principe même de l’hybridation des compétences et les nouveaux métiers, accompagne naturellement l’initiative en s'associant à l'événement.\n\nChacune des écoles de l'Alliance proposera un atelier aux visiteurs sur les deux journées.\n\n \n\nINSCRIPTION
BEGIN:VALARM
ACTION:DISPLAY
TRIGGER:-PT60M
DESCRIPTION:L'Alliance s'associe à l'événement « Le Monde » O21 Nantes
END:VALARM
END:VEVENT
END:VCALENDAR