BEGIN:VCALENDAR
VERSION:2.0
X-WR-TIMEZONE:Europe/Paris
PRODID:-//Audencia//NONSGML v1.0//EN
CALSCALE:GREGORIAN
BEGIN:VEVENT
SUMMARY:Webinar : Les clés pour piloter la direction financière
DTSTART:20180209T000000
DTEND:20260425T205855
UID:181
DTSTAMP:20260425T205855
LOCATION:Online
DESCRIPTION:Retrouvez le replay de la conférence de Louis Dominique Dubourdieu sur les différents les enjeux stratégiques de la fonction financière.\nCe webinar a pour but d’aider les futurs participants à définir un projet de développement de compétence et donner un maximum d'informations sur la formation Executive M.Sc Directeur Financier, à temps partiel, adaptée à votre rythme professionnel.\n\nSi vous n'aviez pas pu suivre cette conférence en live, retrouvez le replay à partir du 9 Février.
BEGIN:VALARM
ACTION:DISPLAY
TRIGGER:-PT60M
DESCRIPTION:Webinar : Les clés pour piloter la direction financière
END:VALARM
END:VEVENT
END:VCALENDAR