BEGIN:VCALENDAR
VERSION:2.0
X-WR-TIMEZONE:Europe/Paris
PRODID:-//Audencia//NONSGML v1.0//EN
CALSCALE:GREGORIAN
BEGIN:VEVENT
SUMMARY:Paroles de diplômés : 1ère session - 05 FEVRIER 2017
DTSTART:20180205T090000
DTEND:20180205T183000
UID:180
DTSTAMP:20260425T205948
LOCATION:Nantes
DESCRIPTION:\n\nLe 5 février prochain, des diplômés de différents programmes d’Audencia (GE, MCI, MASC, MBA, …) reviennent à l’école pour témoigner de leurs parcours, de leurs réussites et partager leurs expériences auprès des étudiants. \n\nCinq thématiques seront abordées :\n- Audit,\n- Finance,\n- Culture & médias,\n- Entrepreneuriat,\n- Management public.\n\n\n \nAu programme de cette journée de rencontre étudiants-diplômés :  \n\n\n	Un speed meeting, en matinée, permettra aux étudiants répartis en petits groupes, de rencontrer les diplômés et d’échanger sur leur parcours et leurs métiers. Cette matinée est dédiée aux étudiants de majeures du programme Grande Ecole et des Mastères Spécialisés.\n	\n	En début d’après-midi, les étudiants (tous programmes et toutes promotions confondus) pourront assister à une conférence plénière sur le sujet « Début de carrière professionnelle : mythe et réalité ».\n	\n	\n	L'après-midi est dédiée aux étudiants de 1ère année du programme Grande Ecole. Ils bénéficieront de moments d’échange privilégiés avec des diplômés mettant en avant leurs retours d’expérience. \n	\n	\n	La journée se terminera par un cocktail réseau. Ce moment convivial permettra de prolonger les échanges autour d’un verre. \n	\n\n\nUne expérience riche d’enseignements pour les étudiants, avides de poser des questions (sur la recherche d’emploi, l’intégration, le quotidien professionnel de leurs aînés), mais aussi de découvrir des métiers et de rencontrer des diplômés.\n \nInscriptions uniquement sur Tomorrow.\n\nUn immense merci aux alumni qui se mobilisent et qui viennent témoigner auprès des étudiants d'Audencia !\n\n\n	\n		\n			\n			CHEDALEUX Gwenaël - GE 2001\n			CHEVRETON Julia - GE 2008\n			DE BEAUFORT Hugues - GE 2012\n			DE MOREL Loïc - GE 2012\n			DEMARQUE Anne - GE 2007\n			DOMER Bérangère - GE 2001\n			DUMARTINET Antoine - GE 2014\n			DUMAY Louise - GE 2010\n			GELEBART Emmanuelle - GE 1995\n			HARDOUIN-FINEZ Régis - GE 2002\n			HUIGNARD Clémence - GE 2011\n			KIPP Alexandre - GE 2015\n			\n			\n			LARGIER Benjamin - GE 2016\n			LETESSIER Arnaud - GE 2012\n			MAGNIER Stéphanie - GE 2000\n			MOULIN-TYRODE Clara - GE 2011\n			RAMCHOUN Farida - GE 2016\n			REGNIER Pierre - GE 2016\n			RENAUD Thomas - GE 2011\n			SERVE Denis - GE 2015\n			SILI Fanny - GE 2012\n			TEN HAVE Guillaume - GE 2013\n			VATTEMENT François - GE 2008\n			ZOUAOUI Matthieu - GE 2013\n			\n		\n	\n\n 
BEGIN:VALARM
ACTION:DISPLAY
TRIGGER:-PT60M
DESCRIPTION:Paroles de diplômés : 1ère session - 05 FEVRIER 2017
END:VALARM
END:VEVENT
END:VCALENDAR