BEGIN:VCALENDAR
VERSION:2.0
X-WR-TIMEZONE:Europe/Paris
PRODID:-//Audencia//NONSGML v1.0//EN
CALSCALE:GREGORIAN
BEGIN:VEVENT
SUMMARY:CANCELLED! Afterwork in Milan, Italy
DTSTART:20170309T190000
DTEND:20170309T210000
UID:18
DTSTAMP:20260425T205822
LOCATION:GinO12 Alzaia Naviglio Grande, 12, 20144 Milan Italy
DESCRIPTION:Dear alumni,\nThis event has been cancelled but we will find another date very soon!\n\nOn the occasion of Professor Kathleen Randerson's visit to Milan, come and meet her for an afterwork reunion on Thursday 9 March from 19.00 at\n\nGinO12\nAlzaia Naviglio Grande, 12, 20144 Milan\n \nThis will be a great opportunity for you to catch up with the latest news from Audencia!
BEGIN:VALARM
ACTION:DISPLAY
TRIGGER:-PT60M
DESCRIPTION:CANCELLED! Afterwork in Milan, Italy
END:VALARM
END:VEVENT
END:VCALENDAR