BEGIN:VCALENDAR
VERSION:2.0
X-WR-TIMEZONE:Europe/Paris
PRODID:-//Audencia//NONSGML v1.0//EN
CALSCALE:GREGORIAN
BEGIN:VEVENT
SUMMARY:Soirée du risque: "Le mercure, histoire d'un allié devenu ennemi" cycle de rencontres citoyennes organisé par l'Institut Kervégan, Nantes
DTSTART:20180214T191500
DTEND:20180214T210000
UID:179
DTSTAMP:20260425T210203
LOCATION:Insula Café, 47 Rue la Tour d'Auvergne, 44200 Nantes
DESCRIPTION:Le mercure, histoire d'un allié devenu ennemi\n\nDe l'avancée technologique à la pollution diffuse\n\nMercredi 14 février 2018 - 19h15\nInsula Café, 47 Rue la Tour d'Auvergne, 44200 Nantes\n\nUn événement de la Chaire RiTe (Risques et Technologies Émergeantes) de l'IMT Atlantique en partenariat avec l’Institut Kervégan et le réseau POLLUSOLS.\n \nPour cette 4ème édition des Soirées du Risque, cycle de rencontres citoyennes autour des risques et des technologies émergentes, nous vous invitons à explorer le monde du mercure à travers son histoire et son impact sur l’environnement.\n\nNous connaissons tous Mercure, dieu des marchands et des voleurs dans l’antiquité Romaine. Aujourd’hui, ce métal identifié surtout pour sa toxicité est encore utilisé dans certains produits de soin et de santé. Ses propriétés uniques l’ont rendu extrêmement bénéfique pour un large éventail d'activités humaines. Malheureusement, à cause de sa large utilisation, il est désormais présent partout dans l’environnement.\n\nA partir de résultats de recherches menées dans le monde et d’exemples pris en Pays de la Loire, Joël Knoery, chercheur à l’Ifremer vous propose de guider votre regard sur le mercure, ce mystérieux métal qui « monte quand il fait chaud ». D’autre part, l’actualité scientifique très récente a pu montrer que la surexposition moyenne des femmes enceintes françaises au mercure est en légère baisse, mais toujours plus importante que dans les pays européens consommant moins de produits de la mer.\n\nJoël Knoery, nous présentera tour à tour l'histoire des utilisations du mercure, de technologies qui l'utilisent, et des risques associés à son omniprésence dans l’environnement. Joël Knoery est chercheur en océanographie basé depuis près de 25 ans à l’Ifremer. Il a d’abord travaillé sur les gaz à effet de serre, sur les volcans sous-marins et leurs sources hydrothermales, et se consacre aujourd’hui au mercure en milieu marin. Pour ses travaux, il a passé plus d’un an en mer et navigué sur les principaux océans du globe.\n \n \nEntrée libre : sur inscription (lien ci-dessous)\nLes échanges se poursuivront autour d'un cocktail dinatoire\n \n \n\n	\n		\n			\n			JE M'INSCRIS \n			\n		\n	\n\n\n\n 
BEGIN:VALARM
ACTION:DISPLAY
TRIGGER:-PT60M
DESCRIPTION:Soirée du risque: "Le mercure, histoire d'un allié devenu ennemi" cycle de rencontres citoyennes organisé par l'Institut Kervégan, Nantes
END:VALARM
END:VEVENT
END:VCALENDAR