BEGIN:VCALENDAR
VERSION:2.0
X-WR-TIMEZONE:Europe/Paris
PRODID:-//Audencia//NONSGML v1.0//EN
CALSCALE:GREGORIAN
BEGIN:VEVENT
SUMMARY:Concours de pétanque de la DTSI
DTSTART:20240905T140000
DTEND:20240905T160000
UID:1767
DTSTAMP:20260425T210142
LOCATION:Quai de la fosse
DESCRIPTION:Description blabllla
BEGIN:VALARM
ACTION:DISPLAY
TRIGGER:-PT60M
DESCRIPTION:Concours de pétanque de la DTSI
END:VALARM
END:VEVENT
END:VCALENDAR