BEGIN:VCALENDAR
VERSION:2.0
X-WR-TIMEZONE:Europe/Paris
PRODID:-//Audencia//NONSGML v1.0//EN
CALSCALE:GREGORIAN
BEGIN:VEVENT
SUMMARY:La DTSI pour les riches !
DTSTART:20241130T120000
DTEND:20241130T140000
UID:1766
DTSTAMP:20260425T210406
LOCATION:Qui de la fosse
DESCRIPTION:Et là il va falloir payer. Désolée
BEGIN:VALARM
ACTION:DISPLAY
TRIGGER:-PT60M
DESCRIPTION:La DTSI pour les riches !
END:VALARM
END:VEVENT
END:VCALENDAR