BEGIN:VCALENDAR
VERSION:2.0
X-WR-TIMEZONE:Europe/Paris
PRODID:-//Audencia//NONSGML v1.0//EN
CALSCALE:GREGORIAN
BEGIN:VEVENT
SUMMARY:Le show annuel de la DTSI ! Et gratuit !
DTSTART:20241130T190000
DTEND:20241130T230000
UID:1765
DTSTAMP:20260425T210022
LOCATION:Quai de seine
DESCRIPTION:Notre show sera grandiose ! \nVenez nombreux
BEGIN:VALARM
ACTION:DISPLAY
TRIGGER:-PT60M
DESCRIPTION:Le show annuel de la DTSI ! Et gratuit !
END:VALARM
END:VEVENT
END:VCALENDAR