BEGIN:VCALENDAR
VERSION:2.0
X-WR-TIMEZONE:Europe/Paris
PRODID:-//Audencia//NONSGML v1.0//EN
CALSCALE:GREGORIAN
BEGIN:VEVENT
SUMMARY:CCI FRANCE CHINE EVENT | Breakfast Talk in Guangzhou
DTSTART:20240227T020000
DTEND:20240227T030000
UID:1764
DTSTAMP:20260425T210116
LOCATION:CCI FRANCE CHINE GUANGZHOU  Room 802. 8/F, Leatop Plaza, 32 Zhujiang East Road, Zhujiang New Town, Tianhe District Guangzhou, China  中国广东省广州市天河区珠江新城珠江东路32号利通广场08层02单元
DESCRIPTION:\n \n\nBreakfast time ! \n\n \n\nDear member,\n\n \n\nCCI FRANCE CHINE is pleased to invite you to the next session of Breakfast Talk!\n\nBreakfast Talk is a new platform to exchange about the topics that matter for your professional development and to share ideas with others.\n\n \n\nCome to discuss with Jackie Fong, South China Regional Director from System in Motion about Are we using AI tool wrong? Case Studies and examples in misuse. \n\n\n#AI #Productivity\n\n \n\nWelcome to CCI FRANCE CHINE, Tuesday, February 27th! \n\n \n\n \n\nTopic:  Are we using AI tools wrong? Case Studies and examples in misuse \n\n Jackie Fong | System in Motion\n\n \n\n\n\n \n\nDate: Tuesday, February 27th,2024\n\nTime: 9:00 AM - 10:00 AM\n\nLanguage: English\n\nVenue: CCI FRANCE CHINE GUANGZHOU\n\nRoom 802. 8/F, Leatop Plaza, 32 Zhujiang East Road, Zhujiang New Town, Tianhe District Guangzhou, China\n\n中国广东省广州市天河区珠江新城珠江东路32号利通广场08层02单元 \n \n\nScan the QR code or click here to register\n\n\n
BEGIN:VALARM
ACTION:DISPLAY
TRIGGER:-PT60M
DESCRIPTION:CCI FRANCE CHINE EVENT | Breakfast Talk in Guangzhou
END:VALARM
END:VEVENT
END:VCALENDAR