BEGIN:VCALENDAR
VERSION:2.0
X-WR-TIMEZONE:Europe/Paris
PRODID:-//Audencia//NONSGML v1.0//EN
CALSCALE:GREGORIAN
BEGIN:VEVENT
SUMMARY:CCI FRANCE CHINE EVENT | [HR Working Group] How will the Generative AI transform or displace existing job roles?  Focus on marketing field
DTSTART:20240306T113000
DTEND:20240306T130000
UID:1763
DTSTAMP:20260425T210032
LOCATION:CCI FRANCE CHINE Shanghai Office, 2/F Mayfair Tower, 83 Fu Min Road, Shanghai, China 中国上海市静安区富民路83号，巨富大厦2楼
DESCRIPTION:\n\n\nIntroduction\n\nCCI FRANCE CHINE HR Working Group is glad to invite you to its next conference on "How will the Generative AI transform or displace existing job roles". The session will focus on the effects in marketing, content, digital and media fields.\n\n \n\nKeynotes\n\n\n	How will the Generative AI transform or displace existing job roles, particularly in marketing, content, digital and media field ? \n	What new job roles and opportunities might emerge as a result of the integration of Generative AI in the marketing or digital industry ?\n\n\n \n\n\n	\n		\n			\n			\n				\n					\n						\n						\n							\n								\n									\n									\n										\n											\n												\n												\n													\n														\n															\n															\n																\n																	\n																		 \n																		\n																			\n																				\n																					\n																					\n																						\n																							\n																								Speakers\n																								 \n																							\n																						\n																					\n																					\n																				\n																			\n																		\n																		\n																	\n																\n															\n															\n														\n													\n												\n												\n											\n										\n									\n									\n								\n							\n						\n						\n					\n				\n			\n			\n		\n		\n			\n			\n				\n					\n						\n						\n							\n								\n									\n									\n										\n											\n												\n												\n													\n														\n															\n															\n																\n																	\n																		\n																		\n																			\n																				\n																					\n																					\n																						\n																							\n																								\n																							\n																						\n																					\n																					\n																				\n																			\n																		\n																		\n																	\n																\n															\n															\n															\n															\n																\n																	\n																		\n																		\n																			\n																				\n																					\n																					\n																						\n																							\n																								Cyril Drouin\n																								Chief Executive Officer & Chief Strategy Officer\n																								 \n																								Cyril Drouin is the CEO & CSO at BeyondBorderGroup. He is based in the Shanghai office.\n																								 \n																								Cyril has more than 20 years of Branding, eCommerce and Digital experience in China and in Europe. Local and international companies came to rely on his expertise. Cyril creates their successes in either optimizing or creating their digital & eCommerce presence in China and in Europe.\n																								 \n																								Cyril is the former CEO of Publicis Commerce China and Chief Digital eCommerce officer for Publicis North Asia leading the practice on Google, Amazon, Instagram, Facebook, Tmall, JD, Wechat and social medias. \n																							\n																						\n																					\n																					\n																				\n																			\n																		\n																		\n																	\n																\n															\n															\n														\n													\n												\n												\n											\n										\n									\n									\n								\n							\n						\n						\n					\n				\n			\n			\n		\n		\n			\n			 \n			\n		\n		\n			\n			\n				\n					\n						\n						\n							\n								\n									\n									\n										\n											\n												\n												\n													\n														\n															\n															\n																\n																	\n																		\n																		\n																			\n																				\n																					\n																					\n																						\n																							\n																								Coordinators\n																							\n																						\n																					\n																					\n																				\n																			\n																		\n																		\n																	\n																\n															\n															\n														\n													\n												\n												\n											\n										\n									\n									\n								\n							\n						\n						\n					\n				\n			\n			\n		\n		\n			\n			 \n			\n		\n		\n			\n			\n				\n					\n						\n						\n							\n								\n									\n									\n										\n											\n												\n												\n													\n														\n															\n															\n																\n																	\n																		\n																		\n																			\n																				\n																					\n																					\n																						\n																							\n																								\n																							\n																						\n																					\n\n																					 \n																					\n																				\n																			\n																		\n																		\n																	\n																\n															\n															\n															\n															\n																\n																	\n																		\n																		\n																			\n																				\n																					\n																					\n																						\n																							\n																								Fabienne Cao\n																								Human Resources Manager\n																								Air France KLM\n																								 \n																							\n																						\n																					\n																					\n																				\n																			\n																		\n\n																		 \n																		\n																	\n																\n															\n															\n														\n													\n												\n												\n											\n										\n									\n									\n								\n							\n						\n						\n					\n				\n			\n			\n		\n		\n			\n			\n				\n					\n						\n						\n							\n								\n									\n									\n										\n											\n												\n												\n													\n														\n															\n															\n																\n																	\n																		\n																		\n																			\n																				\n																					\n																					\n																						\n																							\n																								\n																							\n																						\n																					\n																					\n																				\n																			\n																		\n																		\n																	\n																\n															\n															\n															\n															\n																\n																	\n																		\n																		\n																			\n																				\n																					\n																					\n																						\n																							\n																								Eric Tarchoune\n																								Managing Director & Executive Coach\n																								Dragonfly Group\n																							\n																						\n																					\n																					\n																				\n																			\n																		\n																		\n																	\n																\n															\n															\n														\n													\n												\n												\n											\n										\n									\n									\n								\n							\n						\n						\n					\n				\n			\n			\n		\n		\n			 \n		\n	\n\n\n \n\nDate: Wednesday 6 March 2024\n\nAgenda: \n\n\n	6:00pm - 6:30pm:Welcoming\n	6:30pm - 8:00pm:Conference\n	8:00pm: Networking + Cocktail\n\n\nLanguage: English\n\nFormat: in person + Webinar\n\nVenue : CCI FRANCE CHINE Shanghai Office or Webinar\n\n\n	2/F Mayfair Tower, 83 Fu Min Road, Shanghai / 上海市静安区富民路83号，巨富大厦2楼\n	The connection information will be sent by email after registration. / 活动链接信息将会通过邮件发送给您\n\n \n\nScan the QR code or click here to register\n\n\n
BEGIN:VALARM
ACTION:DISPLAY
TRIGGER:-PT60M
DESCRIPTION:CCI FRANCE CHINE EVENT | [HR Working Group] How will the Generative AI transform or displace existing job roles?  Focus on marketing field
END:VALARM
END:VEVENT
END:VCALENDAR