BEGIN:VCALENDAR
VERSION:2.0
X-WR-TIMEZONE:Europe/Paris
PRODID:-//Audencia//NONSGML v1.0//EN
CALSCALE:GREGORIAN
BEGIN:VEVENT
SUMMARY:CHAPTER NANTES | Dégustation
DTSTART:20240326T184500
DTEND:20240326T220000
UID:1762
DTSTAMP:20260425T210448
LOCATION:Audencia Bachelors, 4 rue Bisson, 44100 Nantes
DESCRIPTION:\n? Le Chapter Nantes vous convie à une soirée exceptionnelle où les saveurs seront à l'honneur. ?\nRendez-vous le mardi 26 mars prochain à Audencia City Campus de 18h45 à 22h pour un voyage gustatif spécial alumni !\n\nAu programme :\n \n? Dégustation de Vins : Des crus soigneusement sélectionnés, des cépages raffinés, des arômes qui racontent des histoires. Laissez notre expert vous guider à travers les vignobles du monde entier.\n\n? Fromages d’Exception : Accompagnez vos verres de vin avec une variété de fromages artisanaux. \n\n? Visite Privée : Avant de vous régaler, découvrez ou re-découvrez le campus Audencia City Bachelor et ses espaces d'innovation pédagogique qui accueillent les Bachelor d'Audencia\n? C20 ou 81 (Salorges)\n? 1 (Gare Maritime)\n? Parking Gratis (Maillé Brézé)\n\nContact : spontroue@audencia.com
BEGIN:VALARM
ACTION:DISPLAY
TRIGGER:-PT60M
DESCRIPTION:CHAPTER NANTES | Dégustation
END:VALARM
END:VEVENT
END:VCALENDAR