BEGIN:VCALENDAR
VERSION:2.0
X-WR-TIMEZONE:Europe/Paris
PRODID:-//Audencia//NONSGML v1.0//EN
CALSCALE:GREGORIAN
BEGIN:VEVENT
SUMMARY:EFMD HIGHERED | Forum Virtuel d’Excellence
DTSTART:20240320T090000
DTEND:20240320T170000
UID:1760
DTSTAMP:20260425T210209
LOCATION:
DESCRIPTION:\n \n\nSalut les Futurs Leaders! ?\n\n \n\nPréparez-vous pour un événement virtuel exceptionnel où les entreprises certifiées Great Place to Work France vont venir rencontrer les talents exceptionnels (et qui parlent français!) du réseau Highered! ?\n\n \n\n?️ Date: 20 Mars 2024\n? Heure: de 9h à 17h\n\n \n\nCe qui t’attend:\n\n? Explore des Opportunités Passionnantes: Plonge dans un monde de possibilités infinies en te connectant avec des entreprises de renom, reconnues comme des lieux de travail exceptionnels!\n? Sessions Inspirantes: Obtenez des insights de leaders de l’industrie, découvrez les secrets du succès professionnel et prépare-toi pour un parcours de carrière exceptionnel!\n? Réseau d’une manière Pro: Affine tes compétences en réseautage virtuel et engage-toi avec des représentants d’entreprises qui accordent une importance particulière à un environnement de travail fantastique!\n? Découvre des Lieux de Travail Exceptionnels: Découvre ce qui fait qu’un lieu de travail est vraiment exceptionnel et plonge dans la culture des entreprises pour lesquelles tu as toujours rêvé de travailler!\n\n \n\nComment Participer:\n\n1. Confirme ta Participation: Assure-toi de sécuriser ta place en t’inscrivant dès maintenant!\n2. Prépare ton Elevator Pitch: Fais-toi remarquer et présente-toi comme la superstar que tu es!\n3. Vérifie ta Connexion: Assure-toi que ta connexion Internet est aussi solide que ton ambition! ?\n\n \n\nPourquoi Participer?\n\nCet événement n’est pas seulement une occasion; c’est une chance de démarrer ta carrière avec une entreprise qui valorise ta croissance, ton bien-être et ta réussite. Ne manque pas l’opportunité de te connecter avec des employeurs engagés à créer des environnements où tu peux t’épanouir! ?\n\n \n\nQui Devrait Participer?\n\nSi tu parles Français, que tu es étudiant ou jeune diplômé prêt à conquérir le monde professionnel, cet événement est fait pour toi! Alors, note bien la date, recharge tes appareils et prépare-toi pour une expérience virtuelle qui pourrait façonner ton parcours professionnel! ?\n\n \n\nOn se retrouve là-bas! ? #HigheredTalentConnect #GreatPlacetoWorkFrance #LeadersDeDemain #MagieDuRéseautage\n \n\nRegistration 
BEGIN:VALARM
ACTION:DISPLAY
TRIGGER:-PT60M
DESCRIPTION:EFMD HIGHERED | Forum Virtuel d’Excellence
END:VALARM
END:VEVENT
END:VCALENDAR