BEGIN:VCALENDAR
VERSION:2.0
X-WR-TIMEZONE:Europe/Paris
PRODID:-//Audencia//NONSGML v1.0//EN
CALSCALE:GREGORIAN
BEGIN:VEVENT
SUMMARY:EFMD HIGHERED | Job Expo by Highered: Graduate Programme Edition
DTSTART:20240229T090000
DTEND:20240229T180000
UID:1759
DTSTAMP:20260425T210046
LOCATION:
DESCRIPTION:\n\n\nAre you ready to take the next step in your professional journey? Mark your calendars for February 29, 2024, as we invite both recruiters/HR professionals and students to the Graduate Programme Job Expo!\n \n\n? Who Should Participate:\n\n\n	Recent graduates looking to kickstart their careers with reputable companies.\n	Master’s and doctoral students seek employment opportunities after completing their advanced degrees.\n\n\n \n\n? What to Anticipate:\n\n\n? Explore Graduate Programmes: Explore a world of opportunities as top-tier companies display their graduate programmes under one virtual roof.\n\n \n\n? Apply for Dream Jobs: Seize the opportunity to apply for exclusive positions tailored for graduate talents. Whether you’re pursuing a master’s or doctoral degree, our participating employers are eager to receive applications from ambitious individuals like you.\n\n \n\n? Showcase Your Profile: Stand out from the crowd by showcasing your academic achievements, skills, and experiences. Our platform allows you to create a compelling profile that attracts the attention of potential employers looking for exceptional graduate candidates.\n \n\nRegister Now\n\n \n\nSave the date – February 29, 2024 – and join us at the Job Expo – Graduate Programme Edition. Whether you’re looking to showcase your company or explore new career paths, this event is your platform for making valuable connections and shaping a successful future! ?
BEGIN:VALARM
ACTION:DISPLAY
TRIGGER:-PT60M
DESCRIPTION:EFMD HIGHERED | Job Expo by Highered: Graduate Programme Edition
END:VALARM
END:VEVENT
END:VCALENDAR