BEGIN:VCALENDAR
VERSION:2.0
X-WR-TIMEZONE:Europe/Paris
PRODID:-//Audencia//NONSGML v1.0//EN
CALSCALE:GREGORIAN
BEGIN:VEVENT
SUMMARY:Club Entrepreneurs Nantes I Afterwork I Rencontre avec Nicolas Davoust, Co-fondateur de Gens de Confiance
DTSTART:20240530T180000
DTEND:20240530T193000
UID:1758
DTSTAMP:20260425T210114
LOCATION:Gens de Confiance
DESCRIPTION:\n \nChers membres du Club Entrepreneur d'Audencia,\n\nNous sommes ravis de vous convier à notre quatrième afterwork qui aura lieu le 30 mai 2024 dès 18h00 dans les locaux de Gens de Confiance et en compagnie de Nicoas DAVOUST, co-fondateur de la plateforme ?\n\nGens de Confiance, fondée par Nicolas Davoust et Olivier Binet en 2017, est bien plus qu'une simple plateforme de petites annonces. C'est une communauté de confiance qui met en relation des membres basée sur des recommandations réciproques.\nLe concept est simple : seuls les membres recommandés peuvent rejoindre la plateforme, ce qui garantit un environnement sécurisé et authentique où les échanges se font en toute confiance.\n\nQue vous cherchiez un emploi, un logement, des services ou des produits de qualité, Gens de Confiance vous offre une plateforme où vous pouvez trouver ce que vous recherchez en toute sérénité.\n\nAvec des valeurs telles que l'intégrité, la transparence et le respect, cette communauté a su créer un réseau solide et fiable où chacun peut trouver son bonheur.\n\nLors de cet afterwork, Nicolas partagera avec nous son parcours entrepreneurial, sa vision pour Gens de Confiance et répondra à toutes vos questions.\n\n\nNous vous attendons nombreux !\n\nSoraya & Amélie \n\nPS : Retrouvez toute l'actualité du club sur WhatsApp : https://chat.whatsapp.com/Lmosdvxz8An9HBq4eiIv5m\n\n \n\nFavorisez les transports doux\n\n? Arrêt Delorme (Bus C3, C6, 26 et et 54)\n? Stations Bicloo : Guist'hau Sud\n? Parking : Bd Guist'hau ( Faible taux de réussite) 
BEGIN:VALARM
ACTION:DISPLAY
TRIGGER:-PT60M
DESCRIPTION:Club Entrepreneurs Nantes I Afterwork I Rencontre avec Nicolas Davoust, Co-fondateur de Gens de Confiance
END:VALARM
END:VEVENT
END:VCALENDAR