BEGIN:VCALENDAR
VERSION:2.0
X-WR-TIMEZONE:Europe/Paris
PRODID:-//Audencia//NONSGML v1.0//EN
CALSCALE:GREGORIAN
BEGIN:VEVENT
SUMMARY:CCI FRANCE CHINE EVENT | Rethinking E-Commerce and the impact on Western Companies in China
DTSTART:20240312T113000
DTEND:20240312T130000
UID:1754
DTSTAMP:20260425T210449
LOCATION:CCI FRANCE CHINE Shanghai, 2/F Mayfair Tower, 83 Fumin Road, Shanghai, China 上海市静安区富民路83号巨富大厦2楼
DESCRIPTION:\n \n\nIntroduction\n\nRapid digitization and evolving customer behaviours compel companies to adjust to the changing dynamics. To tackle these challenges and boost revenues, an increasing number of companies are turning towards B2B e-commerce. However, the Chinese e-commerce market remains complex and presents its own set of challenges. To address these issues, we will offer insights into current market conditions and recent changes. GENUINE will share perspectives on the corporate and regulatory environment and the impact on Western Companies. \n\n \n\nAgenda\n\n\n	China E-Commerce Overview\n	Market Segmentation and E-Commerce Platforms\n	How western companies can use E-Commerce Platforms for Brand building and Sales\n	Pitfalls and trends\n\n\n\n	\n		\n			\n			\n				\n					\n						\n						\n							\n								\n									\n									\n										\n											\n												\n												\n													\n														\n															\n															\n																\n																	\n																		\n																		\n																			\n																				\n																					\n																					\n																						\n																							\n																								Speaker\n																							\n																						\n																					\n																					\n																				\n																			\n																		\n\n																		 \n																		\n																	\n																\n															\n															\n														\n													\n												\n												\n											\n										\n									\n									\n								\n							\n						\n						\n					\n				\n			\n			\n		\n		\n			\n			\n				\n					\n						\n						\n							\n								\n									\n									\n										\n											\n												\n												\n													\n														\n															\n															\n																\n																	\n																		\n																		\n																			\n																				\n																					\n																					\n																						\n																							\n																								\n																							\n																						\n																					\n																					\n																				\n																			\n																		\n																		\n																	\n																\n															\n															\n															\n															\n																\n																	\n																		\n																		\n																			\n																				\n																					\n																					\n																						\n																							\n																								Damian Maib\n																								Founder & CEO GENUINE\n																								 \n																								Damian Maib is an entrepreneur, standing at the forefront of e-commerce innovation in China. As the founder and CEO of GENUINE, a leading e-commerce and marketing enabler, Damian has established a strong presence in the China e-commerce sector.\n																							\n																						\n																					\n																					\n																				\n																			\n																		\n																		\n																	\n																\n															\n															\n														\n													\n												\n												\n											\n										\n									\n									\n								\n							\n						\n						\n					\n				\n			\n			\n		\n	\n\n\n \n\nDate: Tuesday 12 March 2024\n\nTime: 18:00 - 20:00 \n\n\n	18:00 - 18:30:  Welcoming\n	18:30 - 20:00: Conference\n	 20:00: Networking + cocktail\n\n\nLanguage: English\n\nFormat: In-person + Webinar\n\nVenue: CCI FRANCE CHINE Shanghai Office or Webinar\n\nScan the following QR code or click here to register\n\n\n
BEGIN:VALARM
ACTION:DISPLAY
TRIGGER:-PT60M
DESCRIPTION:CCI FRANCE CHINE EVENT | Rethinking E-Commerce and the impact on Western Companies in China
END:VALARM
END:VEVENT
END:VCALENDAR