BEGIN:VCALENDAR
VERSION:2.0
X-WR-TIMEZONE:Europe/Paris
PRODID:-//Audencia//NONSGML v1.0//EN
CALSCALE:GREGORIAN
BEGIN:VEVENT
SUMMARY:PROGRAMME MSc FAM | Webinar - Food Systems Innovation Conference
DTSTART:20240221T160000
DTEND:20240221T180000
UID:1753
DTSTAMP:20260425T210149
LOCATION:
DESCRIPTION:\nOn February 21, 2024 at 4pm, Audencia students from the MSc in Food and Agribusiness Management are organizing an international webinar to deconstruct certain beliefs about agriculture in Brazil, Nigeria, and France. And to discuss innovation as a booster of inclusive, efficient, and sustainable food systems. \n\nKey points in the program for this English-speaking event, on Microsoft Teams: \n\n4pm - 5pm: Presentation of the scientific facts by the researchers: \n\n\n	\n	Jose Carlos Polidoro (Embrapa, Brazil): “The agroenvironmental strategies of agriculture and livestock in Brazil: the reconciliation between economic, social and environmental”,  \n	\n	\n	Prof Gervaise Debucquet (Audencia, France): “Societal controversies around new GMOs (genome editing)”, \n	\n	\n	Olawale Rotimi Opeyemi (JR Farms Africa, Nigeria): "How AgTech has shaped the Nigeria Food Systems: The impact of tech platforms, E-commerce and precision Agriculture". \n	\n\n\n5pm - 6pm: Round table discussion and sharing of experiences with these same scientists and industry experts: \n\n\n	\n	Luther Lawoyin (Price Pally, Nigeria),  \n	\n	\n	José Luiz Tejon Megido (Biomarketing, Brazil). \n	\n\n\n6pm - 7pm: Further discussions and networking in sub-groups with participants from all over the world. \n \n\nRegister Now\n\n \n\nThe Student Organization Team: Etieno Essien (FAYI - Bioeconomy ThinkTank, IAAS), Frank Hagan-Brown, Aldana Prieto Bada, Elizabeth Mayanja, Alix Vidaud, Edoardo Toninelli. \n===================\n\nLe 21 février 2024 à 16h, les étudiants Audencia du MSc in Food and Agribusiness Management organisent un webinar international pour déconstruire certaines croyances sur l'agriculture au Brésil??, au Nigéria??, et en France??. Et aborder l'innovation comme booster de systèmes alimentaires inclusifs, efficaces et durables.\n\nLes points clés du programme de ce webinar anglophone, organisé sur Microsoft Teams :\n\n??‍?16:00-17:00 : Présentation des faits scientifiques par les chercheurs :\n??Jose Carlos Polidoro (Embrapa Solos Brésil) : “The agroenvironmental strategies of agriculture and livestock in Brazil: the reconciliation between economic, social and environmental”,\n??Prof Gervaise Debucquet (Audencia, France) : “Societal controversies around new GMOs (genome editing)”,\n??Olawale Rotimi Opeyemi (JR Farms Africa, Nigéria) : "How AgTech has shaped the Nigeria Food Systems: The impact of tech platforms, E-commerce and precision Agriculture"\n\n?17:00-18:00 : Table ronde et partage d’expériences avec ces mêmes scientifiques, et des experts de l’industrie :\n??Luther Lawoyin (PricePally, Nigéria), \n??José Luiz Tejon Megido (Biomarketing, Brésil).\n\n? 18:00-19:00 : Approfondissement des discussions et réseautage en sous-groupes avec tous les participants à travers le monde.\n \n\nInscription gratuite ici ?? https://lnkd.in/e8jTAEVr\n \n\nLes étudiants organisateurs : Etieno Essien (FAYI - Bioeconomy ThinkTank, IAAS), Frank Hagan-Brown, Aldana Prieto Bada, Elizabeth Mayanja, Alix Vidaud, Edoardo Toninelli.\n \n\n
BEGIN:VALARM
ACTION:DISPLAY
TRIGGER:-PT60M
DESCRIPTION:PROGRAMME MSc FAM | Webinar - Food Systems Innovation Conference
END:VALARM
END:VEVENT
END:VCALENDAR