BEGIN:VCALENDAR
VERSION:2.0
X-WR-TIMEZONE:Europe/Paris
PRODID:-//Audencia//NONSGML v1.0//EN
CALSCALE:GREGORIAN
BEGIN:VEVENT
SUMMARY:CHAPTER LUXEMBOURG | Afterwork "Cheese & Wine"
DTSTART:20240206T193000
DTEND:20240206T220000
UID:1752
DTSTAMP:20260425T210048
LOCATION:La Réserve Avenue Pasteur Limpertsberg Luxembourg
DESCRIPTION:Chapter Luxembourg is organising its first afterwork of the year Tuesday 6 February at 7.30pm at La Réserve.\n\n\n
BEGIN:VALARM
ACTION:DISPLAY
TRIGGER:-PT60M
DESCRIPTION:CHAPTER LUXEMBOURG | Afterwork "Cheese & Wine"
END:VALARM
END:VEVENT
END:VCALENDAR