BEGIN:VCALENDAR
VERSION:2.0
X-WR-TIMEZONE:Europe/Paris
PRODID:-//Audencia//NONSGML v1.0//EN
CALSCALE:GREGORIAN
BEGIN:VEVENT
SUMMARY:CHAPTER VENDEE | Afterwork
DTSTART:20240416T183000
DTEND:20240416T223000
UID:1751
DTSTAMP:20260425T210732
LOCATION:18B, 30 Pl Napoléon, 85000 La Roche-sur-Yon
DESCRIPTION:\n???\n\nLe Chapter Vendée Audencia Alumni vous donne rendez-vous\nle mardi 16 avril 2024 dès 18h45 au 18B (30 place Napoléon, 85000 La Roche-sur-Yon) !\n\n???\n\nProgramme à venir\n\n\n\nContact : spontroue@audencia.com
BEGIN:VALARM
ACTION:DISPLAY
TRIGGER:-PT60M
DESCRIPTION:CHAPTER VENDEE | Afterwork
END:VALARM
END:VEVENT
END:VCALENDAR