BEGIN:VCALENDAR
VERSION:2.0
X-WR-TIMEZONE:Europe/Paris
PRODID:-//Audencia//NONSGML v1.0//EN
CALSCALE:GREGORIAN
BEGIN:VEVENT
SUMMARY:MIX CLUB I Et demain I Nantes
DTSTART:20240605T090000
DTEND:20240606T180000
UID:1748
DTSTAMP:20260425T205950
LOCATION:40 rue La Tour d'Auvergne, 44200, Nantes
DESCRIPTION:\n\nPour ce nouveau rendez-vous, l'équipe du Web2day et de La Cantine vous propose une parenthèse professionnelle enchantée où l'innovation, la durabilité, et l'espoir se rencontrent. Nous aspirons à co-créer un récit désirable pour la société de demain, où les technologies sont au service du vivant. \n\nLes 5 et 6 juin prochains à Nantes, Et demain ? vous proposera un contenu séquencé et pointu destiné à un public qualifié autour de 7 thématiques liées à l’innovation. 2 thématiques seront abordées par demi-journée \n\nMercredi matin \n\nEntreprendre\n\nIA, transition écologique, ​nouvelles réglementations, incertitudes autour du financement, les entrepreneurs·es sont à la croisée des chemins. Comment entreprendre dans ce contexte mouvant ? Retours d'expériences et clés pour décrypter les tendances sont au programme de cette demi-journée.\n\nIndustrie\nEt si industrie du futur rimait ​avec industrie for good ? Nous ​évoquerons bien sûr la décarbonation et ​la régénération, et nous pencherons sur la façon dont l'industrie se réinvente, notamment grâce aux nouvelles technologies.\n\nMercredi matin \n\nFutur du travail\nComment la quête de sens ​impacte les métiers et les ​organisations ? Quel rôle pour ​l’IA dans le recrutement ?\nDoit-on simplement, ​réinventer notre façon de gérer ​l’humain dans l’entreprise ?\n\nTech & souveraineté​\nDans cette track, nous aborderons le sujet stratégique de la ​souveraineté technologique, les ​réglementations liées à l’IA, la ​cybersécurité, l'open source et l'écologie.\n\nJeudi matin\n\nDesign\nNous nous concentrerons ici sur les métiers : web design, UX, UI, et les relierons aux pratiques émergentes : design spéculatif, circulaire, éthique et inclusif.\n\nBrand & content\nNous explorerons l'IA, son impact sur la diffusion de l’information et les métiers de la création. Nous évoquerons aussi la montée en puissance de l'automatisation et le marketing d’influence.\n\nJeudi après-midi\nCette demi-journée sera l'occasion de sortir du pragmatisme de nos vies professionnelles pour prendre de la hauteur et questionner notre monde. Écologie, culture, éducation, art nous irons explorer de nouveaux horizons. Notre envie est également de donner la parole aux plus jeunes générations, ce qu'ils et elles imaginent pour demain.\n\n 
BEGIN:VALARM
ACTION:DISPLAY
TRIGGER:-PT60M
DESCRIPTION:MIX CLUB I Et demain I Nantes
END:VALARM
END:VEVENT
END:VCALENDAR