BEGIN:VCALENDAR
VERSION:2.0
X-WR-TIMEZONE:Europe/Paris
PRODID:-//Audencia//NONSGML v1.0//EN
CALSCALE:GREGORIAN
BEGIN:VEVENT
SUMMARY:Volunteers Academy I Online meeting
DTSTART:20240222T130000
DTEND:20240222T140000
UID:1747
DTSTAMP:20260425T210142
LOCATION:
DESCRIPTION:\n\nChers ambassadeurs,\n \nNous avons le plaisir de vous inviter à la prochaine édition en ligne de la Volunteers Academy, qui aura lieu le 22 février de 13h à 14h ( heure française ) sur Teams.\n \nCe sera l'occasion pour nous de célébrer vos réalisations en 2023, d'annoncer les dates clés pour 2024 et, surtout, de partager vos meilleures pratiques et idées avec d'autres ambassadeurs.\n \n \nNous espérons vous y voir nombreux !\nCordialement ,\n \nL'équipe d'Audencia Alumni\n\n--------------------------------------------------------------------------------------------------------------------------------------------------------------------\n\n\nDear ambassadors,\n \nWe are delighted to invite you to the next online edition of the Volunteers Academy, which will take place on 22 February from 1:00pm to 2:0 pm ( french time) on Teams.\n \nThis will be an opportunity for us celebrate your achievements over 2023, to announce the key dates for 2024 and, above all, to share your best practices and ideas with other ambassadors (who might join this meeting for the first time).\n\n \nWe hope to see many of you there!\nKind regards,\n \nThe Audencia Alumni team\n 
BEGIN:VALARM
ACTION:DISPLAY
TRIGGER:-PT60M
DESCRIPTION:Volunteers Academy I Online meeting
END:VALARM
END:VEVENT
END:VCALENDAR