BEGIN:VCALENDAR
VERSION:2.0
X-WR-TIMEZONE:Europe/Paris
PRODID:-//Audencia//NONSGML v1.0//EN
CALSCALE:GREGORIAN
BEGIN:VEVENT
SUMMARY:CLUB TRANSITION I Le Grand Rdv des engagé-es qui changent l’entreprise
DTSTART:20240314T090000
DTEND:20240314T180000
UID:1746
DTSTAMP:20260425T210141
LOCATION:Cité des congrès de Nantes
DESCRIPTION:Indépendants, TPE, PME, entreprises de taille intermédiaire ou étudiants, venez participer à la deuxième édition édition du Grand RDV des EngagéEs qui changent l’entreprise le jeudi 14 mars 2024 à la Cité des Congrès de Nantes. Un événement majeur dédié à la RSE sur le territoire !\n\nLes grands défis d’aujourd’hui et de demain\n\nRelever les défis écologiques pour garantir l’habitabilité de notre planète dans les prochaines décennies, voilà le principal défi auquel les entreprises doivent désormais répondre. Dès aujourd’hui, les modèles économiques sont remis en cause par les tensions sur les ressources (électricité, gaz, eau…), les risques climatiques, ou encore les difficultés de recrutement.\n\nComment transformer son modèle économique, repenser ensemble l’économie locale ?\nEt quel cadre commun pour engager ces transformations avec ses salariés ? \n\nVenez découvrir comment engager la transformation écologique et sociale de l’économie locale\n\nAu programme : des témoignages d’acteurs et actrices engagé·e·s, des outils accessibles à toutes et tous et des retours d’expériences locaux pour dépasser les actions symboliques.\n\nTransformation des modèles économiques, sobriété, biodiversité, égalité femme-homme, justice sociale et coopération territoriale seront les problématiques au cœur de l’événement pour construire ensemble une économie responsable.\n\nUne expérience marquante, conviviale et apprenante\n\nÊtre au plus proche de vos attentes et des enjeux actuels de la société, voici ce qui nous a guidé pour imaginer cette journée. Place à un événement :\n\n\n	Résolument pragmatique : partons des enjeux court terme auxquels les entreprises sont confrontées (sobriété, recrutement, enjeux réglementaires…) et favorisons les partages d’expériences concrets pour dépasser les actions symboliques.\n	Pédagogique : le programme allie la théorie à la pratique, en rendant accessibles les enjeux globaux, en faisant valoir des leviers d’engagements RSE structurants et en diffusant des outils et dispositifs pour permettre à chacun de passer à l’action facilement.\n	Collectif et participatif : des méthodes de transformation approuvées collectivement et des formats favorisant la connexion entre les acteurs du territoire seront au cœur de la programmation\n	À la hauteur des défis : passons à la vitesse supérieure en faisant rayonner la sincérité des engagements des acteurs bien au-delà des récupérations marketing du green et du social-washing.\n\n\nEmbarquez dès maintenant avec nous, réservez d’ores et déjà votre journée !
BEGIN:VALARM
ACTION:DISPLAY
TRIGGER:-PT60M
DESCRIPTION:CLUB TRANSITION I Le Grand Rdv des engagé-es qui changent l’entreprise
END:VALARM
END:VEVENT
END:VCALENDAR