BEGIN:VCALENDAR
VERSION:2.0
X-WR-TIMEZONE:Europe/Paris
PRODID:-//Audencia//NONSGML v1.0//EN
CALSCALE:GREGORIAN
BEGIN:VEVENT
SUMMARY:CLUB TRANSITION I ? Soirée Fresques & Atelier 2T I PARIS
DTSTART:20240312T190000
DTEND:20240312T220000
UID:1744
DTSTAMP:20260425T210023
LOCATION:Café Studio
DESCRIPTION:\n\nChers membres du Club Audencia Transition,\n\nLe club est ravi de vous inviter au tout premier événement de l'année, une "Soirée Fresques&Atelier" !\n\nCe sera l'occasion parfaite pour se retrouver (ou de se rencontrer), de réflechir aux solutions à mettre en place pour un monde meilleur et aussi, de penser aux prochains évènements du club.\n\nNos alumni animateurs (Alexis Pfeifer & Gabriel Chevallier) et animatrice (Florence Leblond) vous proposent de participer à la fresque ou l'atelier de votre choix :\n\n\n	Fresque du climat : permet à chacun·e de comprendre le fonctionnement, l’ampleur et la complexité des enjeux liés aux dérèglements climatiques. \n	Fresque du textile : permet de découvrir les dessous de l’industrie du textile, ses impacts, les alternatives pour une mode durable.\n	Atelier 2Tonnes : projetez-vous jusqu'en 2050, découvrez les leviers individuels et collectifs de la transition écologique, et identifiez le rôle que vous pouvez y jouer !\n\n\nLa soirée continuera autour d'un verre et d'un apéro dinatoire pour échanger autour des thématiques abordées dans les différents groupes. \n\nPour valider votre inscription, merci de m'indiquer l'atelier ou la fresque à laquelle vous souhaitez participer ( s.rolland@audencia.com) \n\nAu plaisir de vous retrouver nombreux !\n\nVous êtes à Nantes ? Rejoignez l'évènement Nantais ?\n\nSoirée Fresques & Atelier 2T I Nantes
BEGIN:VALARM
ACTION:DISPLAY
TRIGGER:-PT60M
DESCRIPTION:CLUB TRANSITION I ? Soirée Fresques & Atelier 2T I PARIS
END:VALARM
END:VEVENT
END:VCALENDAR