BEGIN:VCALENDAR
VERSION:2.0
X-WR-TIMEZONE:Europe/Paris
PRODID:-//Audencia//NONSGML v1.0//EN
CALSCALE:GREGORIAN
BEGIN:VEVENT
SUMMARY:CLUB LUXE | Soirée Chocolatée
DTSTART:20240228T193000
DTEND:20240228T220000
UID:1742
DTSTAMP:20260425T210539
LOCATION:9 Rue Boissy d'Anglas 75008 Paris
DESCRIPTION:Club Luxe vous invite à une soirée très chocolatée, dédiée aux amoureux de cette précieuse fève le mercredi 28 février de 19h30 à 22h.\n\nCarine Dhers, chocolatière passionnée et engagée, fondatrice de la Mon Jardin Chocolaté, chocolaterie bio, artisanale et solidaire, viendra nous parler de son parcours, de son métier fait de créativité et d’exigence, et de ses engagements.\n\nCette prise de parole se poursuivra par un atelier « Magie des Accords Vins & Chocolats ». Après nous avoir livré les secrets des accords vins et chocolats, Sophie Roulé, fondatrice de Involuté Vins & Évènements, nous fera déguster une sélection de gourmandises chocolatées, créations de Mon Jardin Chocolaté, et de chocolats d’origine de l’emblématique maison Bernachon, en accords avec des vins engagés, issus de sa sélection. \n\nCette soirée mêlera découverte de l’univers de la chocolaterie, expérience sensorielle et initiation à l’art des accords Vin et Chocolat.\n\n\nPlaces limitées. Inscriptions obligatoires*\n\n\n\nQuestions ? : nushad.merchant@audencia.com\n\n \n* Pas de remboursement possible. Toute inscription est définitive.
BEGIN:VALARM
ACTION:DISPLAY
TRIGGER:-PT60M
DESCRIPTION:CLUB LUXE | Soirée Chocolatée
END:VALARM
END:VEVENT
END:VCALENDAR