BEGIN:VCALENDAR
VERSION:2.0
X-WR-TIMEZONE:Europe/Paris
PRODID:-//Audencia//NONSGML v1.0//EN
CALSCALE:GREGORIAN
BEGIN:VEVENT
SUMMARY:CLUB MARKETING & DIGITAL | Impact environnemental du Numérique : comment se saisir de ses enjeux ?
DTSTART:20240326T191500
DTEND:20240326T220000
UID:1741
DTSTAMP:20260425T210054
LOCATION:Numberly 28 Rue de Châteaudun 75009 Paris
DESCRIPTION:Le Club Marketing & Digital a le plaisir de vous convier à une nouvelle rencontre chez Numberly (groupe 1000mercis), groupe français pionnier du marketing digital.\n \n\nNous serons accueillis par Laure Gery (GE 11)  et Annia Champsaur pour évoquer un sujet qui nous concerne tous :\n\nl’Impact Environnemental du Numérique. \n\n\nProfessionnels du marketing et de la communication, nous nous sommes tous emparés de la puissance du marketing digital, et depuis peu de l’IA Générative, devenus incontournables. \n \nMais ces technologies représentent aussi un impact environnemental majeur, aussi bien pour la fabrication de nos équipements toujours plus performants, que pour la consommation des données. \n\nLe numérique représente aujourd’hui environ 4% des émissions mondiales de gaz à effet de serre. La consommation en eau nécessaire aux serveurs commence également à poser des problèmes. Loin de diminuer, ces chiffres, et les impacts environnementaux associés, augmentent et pourraient doubler d’ici 2025, poussés par l’intégration croissante du numérique dans tous les secteurs et services, et l’adoption exponentielle des technologies d’intelligence artificielle. \n \n?? Comment dans ce contexte se saisir de ces enjeux écologiques majeurs au niveau individuel et professionnel ?\n\n?? Quelles actions concrètes pouvons-nous prendre aujourd’hui pour répondre à ce défi collectif ? \n\nAutant de questions que nous aborderons ensemble lors de notre prochaine rencontre dédiée aux impacts environnementaux du numérique. \n \nConférencières : Laure Gery (GE 11) et Annia Champsaur.\nAnimé par Brigitte Neveu-Dérotrie (GE 85)\n \nLa conférence sera suivie par d’un échange et d’un cocktail apéritif.\n \n\n\n\nQuestion : nushad.merchant@audencia.com\n \n\nA propos :\n\n\nBrigitte Neveu-Dérotrie (GE 85) anime le Club Marketing & Digital. Elle est fondatrice de Yélen communication, consultante et formatrice en marketing et communication digitale B2B.\n 
BEGIN:VALARM
ACTION:DISPLAY
TRIGGER:-PT60M
DESCRIPTION:CLUB MARKETING & DIGITAL | Impact environnemental du Numérique : comment se saisir de ses enjeux ?
END:VALARM
END:VEVENT
END:VCALENDAR