BEGIN:VCALENDAR
VERSION:2.0
X-WR-TIMEZONE:Europe/Paris
PRODID:-//Audencia//NONSGML v1.0//EN
CALSCALE:GREGORIAN
BEGIN:VEVENT
SUMMARY:Qualités de vi(ll)es : ELever la viLLe
DTSTART:20240202T090000
DTEND:20240202T130000
UID:1740
DTSTAMP:20260425T210051
LOCATION:Mediacampus  41 Boulevard de la Prairie au Duc 44200 Nantes
DESCRIPTION:\n? QUALITÉS DE VI(LL)ES est un événement annuel de la Chaire REALITES x Audencia qui vise à regrouper, le temps d’une demi-journée, des experts et des acteurs de la fabrique de la ville (élus, aménageurs, architectes, urbanistes, chercheurs, porteurs de projet…) pour partager des retours d’expérience et débattre sur les défis auxquels sont confrontées les villes dans le contexte de la transition écologique.\n\n \n\nLa 2e rencontre annuelle Qualités de vi(ll)es a pour thème : "ÉLever la viLLe"\n\nDans la continuité de la première édition qui s’était concentrée sur la loi Zéro Artificialisation Nette (ZAN) et la réhabilitation des friches urbaines, cette deuxième édition vise à approfondir les questions qui concernent la perception et les conditions d’acceptabilité de la densité urbaine ainsi que les solutions innovantes permettant d’atteindre le ZAN grâce à la densification et à la renaturation.\n\n \n\n? AU PROGRAMME :\n\n9h Ouverture de la conférence\n\n9h30 Table ronde #1\n\nVille compacte, décarbonée et désirable, une utopie en marche ?\n\nLes impératifs de la transition écologique rebattent les cartes de l’aménagement urbain. La nécessité de réduire les émissions de gaz à effet de serre s’impose dans tous les domaines : aménagement, construction, transports… et l’objectif de « Zéro Artificialisation Nette » (ZAN) pour 2050 oblige les villes à se densifier. Or, ces changements nécessaires ont des répercussions sur les modes de vie et la fabrique de la ville. Comment s’en saisir pour réinventer la ville de demain et faire en sorte que celle-ci soit à la fois compacte, décarbonée et désirable ?\n\n10h30 Grand témoin\n\n11h00 Table ronde #2 : Rénover, surélever, renaturer… : le ZAN dans la pratique\n\nPour atteindre le « zéro artificialisation nette », il faut à la fois densifier les villes et compenser l’étalement urbain résiduel. Il existe pour cela des solutions très variées. De la réhabilitation de friches industrielles, à la renaturation en passant par la surélévation du bâti existant. Les professionnels de l’aménagement et les élus partagent leurs solutions créatives pour une ville compacte et renaturée.\n\n12h00 Clôture des échanges - Grand témoin\n\nA l’issue de cette matinée, nous vous proposons de participer à un cocktail.\n\n \n\n? Rendez-vous le 2 février 2024 de 9h00 à 12h00\n\n? Événement gratuit, sur inscription.\n\n? Pour découvrir le programme complet de cette journée : PROGRAMME QdV#2\n\n? Suivez-nous sur LinkedIn : https://www.linkedin.com/showcase/chaire-audencia-realites/\n \n\nJE M'INSCRIS
BEGIN:VALARM
ACTION:DISPLAY
TRIGGER:-PT60M
DESCRIPTION:Qualités de vi(ll)es : ELever la viLLe
END:VALARM
END:VEVENT
END:VCALENDAR