BEGIN:VCALENDAR
VERSION:2.0
X-WR-TIMEZONE:Europe/Paris
PRODID:-//Audencia//NONSGML v1.0//EN
CALSCALE:GREGORIAN
BEGIN:VEVENT
SUMMARY:CLUB ACTIVITES CULTURELLES | Visite guidée - Exposition de Léonce Rosenberg
DTSTART:20240302T104500
DTEND:20240302T121500
UID:1739
DTSTAMP:20260425T210205
LOCATION:5 rue de Thorigny (Métro Saint Paul)
DESCRIPTION:Le Club Activités Culturelles organise une visite guidée de l'exposition de Léonce Rosenberg​ le samedi 2 mars à 10h45.\n\nPromoteur du cubisme et de la peinture abstraite, Léonce Rosenberg collectionne et expose durant l’Entre-deux-guerres la fine fleur de l’avant-garde artistique, associant son nom à ceux de Pablo Picasso, Georges Braque, Fernand Léger, Juan Gris, Auguste Herbin, Henri Laurens, Jean Metzinger, Francis Picabia, de Chirico... En 1929, son appartement regroupe une douzaine d’artistes, 1920, entre survivance du cubisme et Surréalisme.\n\nLe parcours de l’exposition retrace, en 6 sections, l’histoire des onze pièces que Léonce a aménagé pour son couple et ses trois filles . Pour cela, il fait ainsi appel au peintre Georges Valmier, au sculpteur hongrois Joseph Csaky et au designer René Herbst qui créent un ensemble s’adaptant parfaitement à l’intérieur cossu du collectionneur.\n\n\nPlaces limitées, inscriptions obligatoires !\n\n\n\nQuestions : nushad.merchant@audencia.com
BEGIN:VALARM
ACTION:DISPLAY
TRIGGER:-PT60M
DESCRIPTION:CLUB ACTIVITES CULTURELLES | Visite guidée - Exposition de Léonce Rosenberg
END:VALARM
END:VEVENT
END:VCALENDAR