BEGIN:VCALENDAR
VERSION:2.0
X-WR-TIMEZONE:Europe/Paris
PRODID:-//Audencia//NONSGML v1.0//EN
CALSCALE:GREGORIAN
BEGIN:VEVENT
SUMMARY:CLUB ACTIVITES CULTURELLES | Visite guidée - Les Buttes Chaumont & le quartier de la Mouzaia
DTSTART:20240514T183000
DTEND:20240514T200000
UID:1738
DTSTAMP:20260425T210204
LOCATION:Métro Buttes Chaumont
DESCRIPTION:Le Club Activités Culturelles organise une visite guidée de "Les Buttes Chaumont & le quartier de la Mouzaia" le mardi 14 mai à 18h30.\n \nCette promenade nous fera découvrir l'un des plus beaux parcs de Paris. Dessiné par Alphand sur l'emplacement d'anciennes carrières de gypse dites « carrières d'Amérique », ce parc met en scne gouffres, grottes et cascades. Ainsi il inaugure ce qu'on appela alors les « jardins d'aventure ». La découverte de la belle église Saint François d'Assise et du quartier de la Mouzaïa agrémentera notre visite.\n \n\nPlaces limitées, inscriptions obligatoires !\n\n\n\nQuestions : nushad.merchant@audencia.com
BEGIN:VALARM
ACTION:DISPLAY
TRIGGER:-PT60M
DESCRIPTION:CLUB ACTIVITES CULTURELLES | Visite guidée - Les Buttes Chaumont & le quartier de la Mouzaia
END:VALARM
END:VEVENT
END:VCALENDAR