BEGIN:VCALENDAR
VERSION:2.0
X-WR-TIMEZONE:Europe/Paris
PRODID:-//Audencia//NONSGML v1.0//EN
CALSCALE:GREGORIAN
BEGIN:VEVENT
SUMMARY:CLUB ACTIVITES CULTURELLES | Visite guidée - Le Quartier Latin et les abords de Notre-Dame
DTSTART:20240607T183000
DTEND:20240607T200000
UID:1737
DTSTAMP:20260425T210121
LOCATION:Métro Cluny la Sorbonne, côté thermes de Cluny
DESCRIPTION:Le Club Activités Culturelles organise une visite guidée de "Le Quartier Latin et les abords de Notre-Dame" le vendredi 7 juin à 18h30.\n\nDerrière les thermes de Cluny de nombreuses ruelles rappellent le Paris médiéval avec ses toutes petites églises, ses rues étroites et ses maisons curieuses. Les écoliers filaient doux sous l'autorité des moines de Notre-Dame qui organisaient la vie quotidienne dans ce quartier qui parlait latin. Nous découvrirons aussi les abords du chantier de Notre-Dame en avant première et sa fameuse flèche dont la croix renferme les noms de tous les artistes qui ont participé à sa restauration.\n\n\nPlaces limitées, inscriptions obligatoires !\n\n\n\nQuestions : nushad.merchant@audencia.com
BEGIN:VALARM
ACTION:DISPLAY
TRIGGER:-PT60M
DESCRIPTION:CLUB ACTIVITES CULTURELLES | Visite guidée - Le Quartier Latin et les abords de Notre-Dame
END:VALARM
END:VEVENT
END:VCALENDAR