BEGIN:VCALENDAR
VERSION:2.0
X-WR-TIMEZONE:Europe/Paris
PRODID:-//Audencia//NONSGML v1.0//EN
CALSCALE:GREGORIAN
BEGIN:VEVENT
SUMMARY:CLUB ACTIVITES CULTURELLES | Visite guidée - Le quartier Oberkampf et le Street Art
DTSTART:20240921T110000
DTEND:20240921T123000
UID:1736
DTSTAMP:20260425T210116
LOCATION:La sortie du métro Oberkampf
DESCRIPTION:Le Club Activités Culturelles organise une visite guidée de "Le quartier Oberkampf et le Street Art​" le samedi 21 sepetmbre à 11h.\n \n\nLes artistes ont investi les murs d'un quartier populaire et chaleureux. De plus, leur style est issu du graphisme et de la publicité, de la bande dessinée et du tatouage. Enfin, leur art est éphémère, mobile et dynamique. C'est en cela qu'il reflète notre société et notre vision de la cité. Une visite hors du commun dans le monde de l'art de rue.\n \n\nPlaces limitées, inscriptions obligatoires !\n\n\n\nQuestions : nushad.merchant@audencia.com
BEGIN:VALARM
ACTION:DISPLAY
TRIGGER:-PT60M
DESCRIPTION:CLUB ACTIVITES CULTURELLES | Visite guidée - Le quartier Oberkampf et le Street Art
END:VALARM
END:VEVENT
END:VCALENDAR