BEGIN:VCALENDAR
VERSION:2.0
X-WR-TIMEZONE:Europe/Paris
PRODID:-//Audencia//NONSGML v1.0//EN
CALSCALE:GREGORIAN
BEGIN:VEVENT
SUMMARY:CLUB ACTIVITES CULTURELLES | Visite guidée - La Cour des Miracles
DTSTART:20241012T110000
DTEND:20241012T123000
UID:1735
DTSTAMP:20260425T205946
LOCATION:La sortie du métro Sentier
DESCRIPTION:Le Club Activités Culturelles organise une visite guidée de "La Cour des Miracles​" le samedi 12 octobre à 11h.\n\nLa Cour des Miracles, les halles d'autrefois et le quartier Montorgueil. Ce parcours historique nous plongera dans le monde des gueux et des borgnes, des coquillards et des riffaudés. On évoquera aussi les malingreux et les voleurs-mendiants qui voisinaient avec la voisine et les marchands ambulants des Halles. Une promenade riche en anecdotes.\n \n\nPlaces limitées, inscriptions obligatoires !\n\n\n \n\nQuestions : nushad.merchant@audencia.com
BEGIN:VALARM
ACTION:DISPLAY
TRIGGER:-PT60M
DESCRIPTION:CLUB ACTIVITES CULTURELLES | Visite guidée - La Cour des Miracles
END:VALARM
END:VEVENT
END:VCALENDAR