BEGIN:VCALENDAR
VERSION:2.0
X-WR-TIMEZONE:Europe/Paris
PRODID:-//Audencia//NONSGML v1.0//EN
CALSCALE:GREGORIAN
BEGIN:VEVENT
SUMMARY:CLUB ENTREPRENEURS NANTES I Save the date
DTSTART:20240410T180000
DTEND:20240410T220000
UID:1734
DTSTAMP:20260425T210121
LOCATION:La cantine du numérique
DESCRIPTION:\n\nLe troisième rassemblement du club Entrepreneurs Nantes se fera à la Cantine du Numérique le 10 Avril. \n\nBeaucoup d'infos vont arriver prochainement mais on peut déja vous dire que l'évènement va être génial ! \n\nPour ceux qui ne le savent pas, la Cantine du Numérique est à la fois une association à l’origine d’un réseau et également un espace de bureaux et d’animation. \n\nLa Cantine de Nantes est devenue un lieu incontournable pour les acteurs du web et de l’innovation numérique, secteur en pointe dans la région nantaise  Aujourd’hui, l'association fédère 300 entreprises du numérique des Pays de la Loire ! \n\nCertains d'entre vous ont peut etre eu l'occasion de croiser son directeur et fondateur Adrien Poggetti dans les couloirs de l'Ecole lors de leurs études. Adrien est diplomé de la Grande Ecole, promo 2004 ;) 
BEGIN:VALARM
ACTION:DISPLAY
TRIGGER:-PT60M
DESCRIPTION:CLUB ENTREPRENEURS NANTES I Save the date
END:VALARM
END:VEVENT
END:VCALENDAR