BEGIN:VCALENDAR
VERSION:2.0
X-WR-TIMEZONE:Europe/Paris
PRODID:-//Audencia//NONSGML v1.0//EN
CALSCALE:GREGORIAN
BEGIN:VEVENT
SUMMARY:CCI FRANCE CHINE EVENT | Optimisez vos revenus immobiliers en 2024
DTSTART:20240228T113000
DTEND:20240228T123000
UID:1733
DTSTAMP:20260425T210049
LOCATION:2/F Mayfair Tower, 83 Fu min Road, Shanghai  上海市静安区富民路83号巨富大厦2楼
DESCRIPTION:\n\n\nIntroduction\n\nL’immobilier en France est un des placements favoris des expatriés. La taxation sur les loyers perçus est très élevée, avec un taux d’impôt sur les revenus fonciers de 37.2% voire de 47.2%.  Il existe cependant des solutions permettant de réduire partiellement ou totalement l’impôt et les prélèvements sociaux sur des revenus existants, mais également d’investir sans impôt sur les loyers pendant de très longues périodes. Il est également possible de se protéger de fiscalité de l’impôt sur la fortune immobilière en France. Nous répondrons à ces questions en s’appuyant sur des cas pratiques et présenterons concrètement les solutions à mettre en place.\n\n \n\nDate: Mercredi 28 février \n\nHeure: De 18h00 à 19h30 \n\nLangue: Français \n\nFormat: En présentiel + Webinar \n\nLieu: Bureau CCI FRANCE CHINE de Shanghai\n\nScannez the code QR ou cliquez ici pour s'insrire \n\n \n\n
BEGIN:VALARM
ACTION:DISPLAY
TRIGGER:-PT60M
DESCRIPTION:CCI FRANCE CHINE EVENT | Optimisez vos revenus immobiliers en 2024
END:VALARM
END:VEVENT
END:VCALENDAR