BEGIN:VCALENDAR
VERSION:2.0
X-WR-TIMEZONE:Europe/Paris
PRODID:-//Audencia//NONSGML v1.0//EN
CALSCALE:GREGORIAN
BEGIN:VEVENT
SUMMARY:CCI FRANCE CHINE EVENT | New Company Law: More Responsibilities and Risks For Executives and Shareholders?
DTSTART:20240131T113000
DTEND:20240131T123000
UID:1732
DTSTAMP:20260425T210145
LOCATION:2/F Mayfair Tower, 83 Fu min Road, Shanghai 上海市静安区富民路83号巨富大厦2楼
DESCRIPTION:\n\n\nIntroduction\n\nThe newly amended PRC Company Law will be effective on July 1, 2024. With more than 1/3 of the articles being new and revised, it will bring a universal impact on all companies in China, including foreign-invested companies. In order to make proper and timely adjustments to the company, shareholders and management of companies are advised to know how their rights and obligations are updated, to be familiar with the latest changes of the law, especially about corporate governance, capital contribution, impact on shareholder and management, etc. In the event, we will analyze the possible impact of the new PRC Company Law on limited liability companies mainly from the perspective of executives (directors, supervisors, managers, legal representatives) and shareholders respectively\n\nDate: Wednesday 31 January \n\nTime: 18:30 to 19:30\n\nLanguage: English\n\nFormat: In-person + Webinar\n\nVenue : \n\nCCI FRANCE CHINE Shanghai\n\n2/F Mayfair Tower, 83 Fu min Road, Shanghai\n上海市静安区富民路83号巨富大厦2楼\n\nWebinar:\n\nThe connection information will be provided by email after registration\n\nScan the QR code or click here to register\n\n
BEGIN:VALARM
ACTION:DISPLAY
TRIGGER:-PT60M
DESCRIPTION:CCI FRANCE CHINE EVENT | New Company Law: More Responsibilities and Risks For Executives and Shareholders?
END:VALARM
END:VEVENT
END:VCALENDAR