BEGIN:VCALENDAR
VERSION:2.0
X-WR-TIMEZONE:Europe/Paris
PRODID:-//Audencia//NONSGML v1.0//EN
CALSCALE:GREGORIAN
BEGIN:VEVENT
SUMMARY:TRIATHLON AUDENCIA LA BAULE | Challenge Alumni : Tri-Relais
DTSTART:20240928T120000
DTEND:20240928T160000
UID:1731
DTSTAMP:20260425T210431
LOCATION:La Baule
DESCRIPTION:Chers alumni, \n\nPour la 37ème édition du Triathlon Audencia La Baule, Audencia Alumni vous met au défi de relever le challenge du tri-relais grand public le samedi 28 septembre, en début d'après-midi. Pas besoin de vous inscrire sur le site officiel, Audencia Alumni vous a réservé 25 équipes de trois personnes (premiers inscrits = premiers servis !).\n\n\n	\n	Constituez votre équipe alumni (un nageur, un coureur, un cycliste)\n	\n	\n	Inscrivez-vous et rajoutez les noms de vos co-équipiers en tant qu'accompagnants sur cette page (bouton "s'inscrire" en haut à droite)\n	\n	\n	Remplissez  votre formulaire santé (deadline le 15 juillet)\n	\n	\n	Invitez vos camarades de promo non sportifs à l'after triath' à partir de 18h30 le samedi soir (attention événement sur inscription uniquement !)\n	\n\nToutes les informations sur la participation, le certificat médical, le pass compétition, l'after triath (et oui...) se trouvent dans l'espace "together" dédié. Pensez à utiliser la fonction "chat" de l'espace together pour rechercher des nageurs, coureurs ou cyclistes pour compléter votre équipe alumni!\n\n\nPour toute question, contactez Cici LIU de l'équipe alumni\n \n\n Le site web du triathlon Audencia La Baule\n\n \n\n
BEGIN:VALARM
ACTION:DISPLAY
TRIGGER:-PT60M
DESCRIPTION:TRIATHLON AUDENCIA LA BAULE | Challenge Alumni : Tri-Relais
END:VALARM
END:VEVENT
END:VCALENDAR