BEGIN:VCALENDAR
VERSION:2.0
X-WR-TIMEZONE:Europe/Paris
PRODID:-//Audencia//NONSGML v1.0//EN
CALSCALE:GREGORIAN
BEGIN:VEVENT
SUMMARY:TRIATHLON AUDENCIA LA BAULE | After Triath'
DTSTART:20240928T183000
DTEND:20240928T223000
UID:1730
DTSTAMP:20260425T210121
LOCATION:La Baule
DESCRIPTION:Save the date, more information to come! 
BEGIN:VALARM
ACTION:DISPLAY
TRIGGER:-PT60M
DESCRIPTION:TRIATHLON AUDENCIA LA BAULE | After Triath'
END:VALARM
END:VEVENT
END:VCALENDAR