BEGIN:VCALENDAR
VERSION:2.0
X-WR-TIMEZONE:Europe/Paris
PRODID:-//Audencia//NONSGML v1.0//EN
CALSCALE:GREGORIAN
BEGIN:VEVENT
SUMMARY:Webinar I Slow fashion training
DTSTART:20240207T110000
DTEND:20240207T130000
UID:1728
DTSTAMP:20260425T210148
LOCATION:
DESCRIPTION:\n\nVous souhaitez agir en faveur d'une mode plus responsable?\nParticipez au module Slow Fashion Training de la chaire Impact Positif d'Audencia !\n \nLe programme vise à sensibiliser chacun à la mode responsable.\n\nComment ? En prenant conscience des impacts du secteur, en décryptant les comportements d’achat, et en découvrant des pratiques plus durables.\n\nL'objectif ? Que chacun participe à son échelle à l’effort collectif vers une mode raisonnée, et sache diffuser les bonnes informations.\n\nIl s'agit d'un module gratuit diffusé en ligne, d'une durée de 2 heures dont la prochaine session aura lieu le mercredi 07 Février de 11h à 13h en ligne.\n\nAttention : inscription obligatoire sur Teams.
BEGIN:VALARM
ACTION:DISPLAY
TRIGGER:-PT60M
DESCRIPTION:Webinar I Slow fashion training
END:VALARM
END:VEVENT
END:VCALENDAR