BEGIN:VCALENDAR
VERSION:2.0
X-WR-TIMEZONE:Europe/Paris
PRODID:-//Audencia//NONSGML v1.0//EN
CALSCALE:GREGORIAN
BEGIN:VEVENT
SUMMARY:CLUB AUDENCIA TRANSITION I Forum des métiers engagés
DTSTART:20240418T090000
DTEND:20240418T180000
UID:1727
DTSTAMP:20260425T210407
LOCATION:Académie du climat
DESCRIPTION:\n\nAprès deux super premières éditions, le forum des métiers engagés est de retour à Paris pour sa 3ème édition  !\n\nAu programme :\n- Une trentaine d'entreprises, associations et organisations publiques qui recrutent des cadres\n- Des organisations et coachs qui accompagnent l’engagement au travail ou les transitions professionnelles,\n- Des conférences et tables rondes pour s’inspirer et réfléchir,\n- Des ateliers pour se sensibiliser et apprendre ensemble,\n- Et des animations pour faire tout cela dans la joie !\n\n? Alors, à vos agendas : rendez-vous le jeudi 18 avril à l’Académie du Climat (Paris 4).\n\nOn a hâte de vous y retrouver !\n 
BEGIN:VALARM
ACTION:DISPLAY
TRIGGER:-PT60M
DESCRIPTION:CLUB AUDENCIA TRANSITION I Forum des métiers engagés
END:VALARM
END:VEVENT
END:VCALENDAR